BEGIN:VCALENDAR
VERSION:2.0
PRODID:-//Loire Tourisme Pro - ECPv6.15.20//NONSGML v1.0//EN
CALSCALE:GREGORIAN
METHOD:PUBLISH
X-ORIGINAL-URL:https://pro.loiretourisme.com
X-WR-CALDESC:Évènements pour Loire Tourisme Pro
REFRESH-INTERVAL;VALUE=DURATION:PT1H
X-Robots-Tag:noindex
X-PUBLISHED-TTL:PT1H
BEGIN:VTIMEZONE
TZID:Europe/Paris
BEGIN:DAYLIGHT
TZOFFSETFROM:+0100
TZOFFSETTO:+0200
TZNAME:CEST
DTSTART:20250330T010000
END:DAYLIGHT
BEGIN:STANDARD
TZOFFSETFROM:+0200
TZOFFSETTO:+0100
TZNAME:CET
DTSTART:20251026T010000
END:STANDARD
BEGIN:DAYLIGHT
TZOFFSETFROM:+0100
TZOFFSETTO:+0200
TZNAME:CEST
DTSTART:20260329T010000
END:DAYLIGHT
BEGIN:STANDARD
TZOFFSETFROM:+0200
TZOFFSETTO:+0100
TZNAME:CET
DTSTART:20261025T010000
END:STANDARD
BEGIN:DAYLIGHT
TZOFFSETFROM:+0100
TZOFFSETTO:+0200
TZNAME:CEST
DTSTART:20270328T010000
END:DAYLIGHT
BEGIN:STANDARD
TZOFFSETFROM:+0200
TZOFFSETTO:+0100
TZNAME:CET
DTSTART:20271031T010000
END:STANDARD
END:VTIMEZONE
BEGIN:VEVENT
DTSTART;VALUE=DATE:20261005
DTEND;VALUE=DATE:20261007
DTSTAMP:20260421T101233
CREATED:20251203T152856Z
LAST-MODIFIED:20260323T101749Z
UID:15627-1791158400-1791331199@pro.loiretourisme.com
SUMMARY:Formation "Accompagner les porteurs de projets d’hébergements touristiques"
DESCRIPTION:[vc_row type= »in_container » full_screen_row_position= »middle » column_margin= »default » column_direction= »default » column_direction_tablet= »default » column_direction_phone= »default » scene_position= »center » text_color= »dark » text_align= »left » row_border_radius= »none » row_border_radius_applies= »bg » overflow= »visible » overlay_strength= »0.3″ gradient_direction= »left_to_right » shape_divider_position= »bottom » bg_image_animation= »none »][vc_column column_padding= »no-extra-padding » column_padding_tablet= »inherit » column_padding_phone= »inherit » column_padding_position= »all » column_element_direction_desktop= »default » column_element_spacing= »default » desktop_text_alignment= »default » tablet_text_alignment= »default » phone_text_alignment= »default » background_color_opacity= »1″ background_hover_color_opacity= »1″ column_backdrop_filter= »none » column_shadow= »none » column_border_radius= »none » column_link_target= »_self » column_position= »default » gradient_direction= »left_to_right » overlay_strength= »0.3″ width= »1/1″ tablet_width_inherit= »default » animation_type= »default » bg_image_animation= »none » border_type= »simple » column_border_width= »none » column_border_style= »solid »][vc_column_text]Sécuriser et structurer les projets d’hébergement dès les premières étapes \nLes projets d’hébergements touristiques se multiplient et se diversifient\, mais ils se heurtent souvent à un environnement réglementaire dense et difficile à appréhender. Au-delà de l’idée ou du concept\, la réussite d’un projet repose sur sa capacité à anticiper les contraintes liées à l’urbanisme\, aux zonages\, à la sécurité\, à la fiscalité ou encore au statut juridique. Faute de lisibilité\, nombre d’initiatives se retrouvent ralenties\, bloquées ou abandonnées. Dans ce contexte\, les professionnels du tourisme\, du développement économique et de l’ingénierie territoriale doivent être en mesure de sécuriser les projets dès l’amont\, d’identifier les marges de manœuvre et de jouer un rôle d’interface avec les acteurs compétents. Cette formation apporte des repères clairs sur les réglementations et outille les participants pour accompagner les porteurs de projets de manière proactive\, structurée et sécurisée.[/vc_column_text] Les objectifs de la formation : \n\nSituer un projet d’hébergement touristique dans les tendances actuelles du marché et son environnement réglementaire\nRepérer les contraintes et opportunités d’un projet à travers les documents de planification et d’urbanisme\nCroiser les principales règles applicables (urbanisme\, tourisme\, sécurité\, environnement) et identifier les acteurs compétents\nAccompagner et orienter un porteur de projet en intégrant la faisabilité réglementaire avec les dimensions d’opportunité\, de faisabilité économique et de positionnement\n\n\n  Modalités : \n\n📍 Formation en présentiel à Saint-Etienne\n📅 2 jours – 14 heures de formation\n📆 Prochaine session : les 5 et 6 octobre\n💶 Tarif : 700€ HT (des prises en charge sont possibles avec votre OPCO)\n\n [vc_column_text]Pour qui ?\nChargé.e d’ingénierie territoriale / aménagement / développement touristique ou économique / accompagnement de porteurs de projets[/vc_column_text][/vc_column][/vc_row][vc_row type= »in_container » full_screen_row_position= »middle » column_margin= »default » column_direction= »default » column_direction_tablet= »default » column_direction_phone= »default » scene_position= »center » text_color= »dark » text_align= »left » row_border_radius= »none » row_border_radius_applies= »bg » overflow= »visible » overlay_strength= »0.3″ gradient_direction= »left_to_right » shape_divider_position= »bottom » bg_image_animation= »none »][vc_column column_padding= »no-extra-padding » column_padding_tablet= »inherit » column_padding_phone= »inherit » column_padding_position= »all » column_element_direction_desktop= »default » column_element_spacing= »default » centered_text= »true » desktop_text_alignment= »center » tablet_text_alignment= »default » phone_text_alignment= »default » background_color_opacity= »1″ background_hover_color_opacity= »1″ column_backdrop_filter= »none » column_shadow= »none » column_border_radius= »none » column_link_target= »_self » column_position= »default » gradient_direction= »left_to_right » overlay_strength= »0.3″ width= »1/1″ tablet_width_inherit= »default » animation_type= »default » bg_image_animation= »none » border_type= »simple » column_border_width= »none » column_border_style= »solid » column_padding_type= »default » gradient_type= »default »][nectar_btn size= »jumbo » open_new_tab= »true » button_style= »regular » button_color_2= »Accent-Color » icon_family= »none » url= »https://www.trajectoires-tourisme.com/formations/accompagner-les-porteurs-de-projets-dhebergements-touristiques-8e5ebccd-d7fe-448a-ade6-0d8d0b56e4e0/ » text= »Inscrivez-vous »][vc_column_text]\nAttention\, les places ouvertes dans la formation sont limitées.\n[/vc_column_text][image_with_animation image_url= »13110″ image_size= »large » animation_type= »entrance » animation= »None » animation_movement_type= »transform_y » hover_animation= »none » alignment= »center » img_link_target= »_blank » border_radius= »none » box_shadow= »none » image_loading= »default » max_width= »100% » max_width_mobile= »default » img_link= »https://www.trajectoires-tourisme.com/ »][/vc_column][/vc_row]
URL:https://pro.loiretourisme.com/evenement/formation-accompagner-les-porteurs-de-projets-dhebergements-touristiques/
LOCATION:Loire Tourisme\, 22 Rue Paul Petit\, Saint-Etienne\, 42000
CATEGORIES:Formation
ATTACH;FMTTYPE=image/jpeg:https://pro.loiretourisme.com/wp-content/uploads/2026/03/Gite_Les_Pittoresques©ADT42-Petits_Dromois.jpg
END:VEVENT
END:VCALENDAR