BEGIN:VCALENDAR
VERSION:2.0
PRODID:-//Loire Tourisme Pro - ECPv6.15.20//NONSGML v1.0//EN
CALSCALE:GREGORIAN
METHOD:PUBLISH
X-WR-CALNAME:Loire Tourisme Pro
X-ORIGINAL-URL:https://pro.loiretourisme.com
X-WR-CALDESC:Évènements pour Loire Tourisme Pro
REFRESH-INTERVAL;VALUE=DURATION:PT1H
X-Robots-Tag:noindex
X-PUBLISHED-TTL:PT1H
BEGIN:VTIMEZONE
TZID:Europe/Paris
BEGIN:DAYLIGHT
TZOFFSETFROM:+0100
TZOFFSETTO:+0200
TZNAME:CEST
DTSTART:20250330T010000
END:DAYLIGHT
BEGIN:STANDARD
TZOFFSETFROM:+0200
TZOFFSETTO:+0100
TZNAME:CET
DTSTART:20251026T010000
END:STANDARD
BEGIN:DAYLIGHT
TZOFFSETFROM:+0100
TZOFFSETTO:+0200
TZNAME:CEST
DTSTART:20260329T010000
END:DAYLIGHT
BEGIN:STANDARD
TZOFFSETFROM:+0200
TZOFFSETTO:+0100
TZNAME:CET
DTSTART:20261025T010000
END:STANDARD
BEGIN:DAYLIGHT
TZOFFSETFROM:+0100
TZOFFSETTO:+0200
TZNAME:CEST
DTSTART:20270328T010000
END:DAYLIGHT
BEGIN:STANDARD
TZOFFSETFROM:+0200
TZOFFSETTO:+0100
TZNAME:CET
DTSTART:20271031T010000
END:STANDARD
END:VTIMEZONE
BEGIN:VEVENT
DTSTART;TZID=Europe/Paris:20260305T080000
DTEND;TZID=Europe/Paris:20260305T093000
DTSTAMP:20260421T184850
CREATED:20260219T105810Z
LAST-MODIFIED:20260219T105810Z
UID:16173-1772697600-1772703000@pro.loiretourisme.com
SUMMARY:Atelier CCI - Optimiser et maîtriser sa consommation d’eau
DESCRIPTION:[vc_row type= »in_container » full_screen_row_position= »middle » column_margin= »default » column_direction= »default » column_direction_tablet= »default » column_direction_phone= »default » scene_position= »center » top_padding= »0% » text_color= »dark » text_align= »left » row_border_radius= »none » row_border_radius_applies= »bg » overflow= »visible » overlay_strength= »0.3″ gradient_direction= »left_to_right » shape_divider_position= »bottom » bg_image_animation= »none » gradient_type= »default » shape_type= » »][vc_column column_padding= »no-extra-padding » column_padding_tablet= »inherit » column_padding_phone= »inherit » column_padding_position= »all » column_element_direction_desktop= »default » column_element_spacing= »default » desktop_text_alignment= »default » tablet_text_alignment= »default » phone_text_alignment= »default » background_color_opacity= »1″ background_hover_color_opacity= »1″ column_backdrop_filter= »none » column_shadow= »none » column_border_radius= »none » column_link_target= »_self » column_position= »default » gradient_direction= »left_to_right » overlay_strength= »0.3″ width= »1/1″ tablet_width_inherit= »default » animation_type= »default » bg_image_animation= »none » border_type= »simple » column_border_width= »none » column_border_style= »solid »][vc_column_text]Cet atelier vise à sensibiliser à la gestion de l’eau en entreprise et à partager des solutions concrètes en matière de sobriété hydrique.[/vc_column_text][/vc_column][/vc_row][vc_row type= »in_container » full_screen_row_position= »middle » column_margin= »default » column_direction= »default » column_direction_tablet= »default » column_direction_phone= »default » scene_position= »center » top_padding= »0% » text_color= »dark » text_align= »left » row_border_radius= »none » row_border_radius_applies= »bg » overflow= »visible » overlay_strength= »0.3″ gradient_direction= »left_to_right » shape_divider_position= »bottom » bg_image_animation= »none » gradient_type= »default » shape_type= » »][vc_column column_padding= »no-extra-padding » column_padding_tablet= »inherit » column_padding_phone= »inherit » column_padding_position= »all » column_element_direction_desktop= »default » column_element_spacing= »default » desktop_text_alignment= »default » tablet_text_alignment= »default » phone_text_alignment= »default » background_color_opacity= »1″ background_hover_color_opacity= »1″ column_backdrop_filter= »none » column_shadow= »none » column_border_radius= »none » column_link_target= »_self » column_position= »default » gradient_direction= »left_to_right » overlay_strength= »0.3″ width= »1/1″ tablet_width_inherit= »default » animation_type= »default » bg_image_animation= »none » border_type= »simple » column_border_width= »none » column_border_style= »solid » column_padding_type= »default » gradient_type= »default »] Les objectifs de l’atelier : \n\nComment améliorer la gestion de sa consommation d’eau au quotidien ?\nQuelles aides et dispositifs existent pour accompagner ces démarches ?\n\n [/vc_column][/vc_row][vc_row type= »in_container » full_screen_row_position= »middle » column_margin= »default » column_direction= »default » column_direction_tablet= »default » column_direction_phone= »default » scene_position= »center » top_padding= »0% » text_color= »dark » text_align= »left » row_border_radius= »none » row_border_radius_applies= »bg » overflow= »visible » overlay_strength= »0.3″ gradient_direction= »left_to_right » shape_divider_position= »bottom » bg_image_animation= »none » gradient_type= »default » shape_type= » »][vc_column column_padding= »no-extra-padding » column_padding_tablet= »inherit » column_padding_phone= »inherit » column_padding_position= »all » column_element_direction_desktop= »default » column_element_spacing= »default » centered_text= »true » desktop_text_alignment= »center » tablet_text_alignment= »default » phone_text_alignment= »default » background_color_opacity= »1″ background_hover_color_opacity= »1″ column_backdrop_filter= »none » column_shadow= »none » column_border_radius= »none » column_link_target= »_self » column_position= »default » gradient_direction= »left_to_right » overlay_strength= »0.3″ width= »1/1″ tablet_width_inherit= »default » animation_type= »default » bg_image_animation= »none » border_type= »simple » column_border_width= »none » column_border_style= »solid » column_padding_type= »default » gradient_type= »default »][nectar_btn size= »jumbo » open_new_tab= »true » button_style= »regular » button_color_2= »Accent-Color » icon_family= »none » text= »Inscrivez-vous » url= »https://www.lyon-metropole.cci.fr/evenement/optimiser-et-maitriser-sa-consommation-deau »][/vc_column][/vc_row]
URL:https://pro.loiretourisme.com/evenement/atelier-cci-optimiser-et-maitriser-sa-consommation-deau/
LOCATION:Communauté de Communes de Forez-Est\, 6 place Paul Larue\, FEURS\, 42110\, France
CATEGORIES:Tourisme Responsable
ATTACH;FMTTYPE=image/png:https://pro.loiretourisme.com/wp-content/uploads/2025/07/Visuels-Webinaires-Projecteurs.png
END:VEVENT
BEGIN:VEVENT
DTSTART;TZID=Europe/Paris:20260323T180000
DTEND;TZID=Europe/Paris:20260323T200000
DTSTAMP:20260421T184850
CREATED:20260303T114421Z
LAST-MODIFIED:20260303T114421Z
UID:16304-1774288800-1774296000@pro.loiretourisme.com
SUMMARY:Parc du Pilat - Atelier Sobriété Energétique
DESCRIPTION:[vc_row type= »in_container » full_screen_row_position= »middle » column_margin= »default » column_direction= »default » column_direction_tablet= »default » column_direction_phone= »default » scene_position= »center » top_padding= »0% » text_color= »dark » text_align= »left » row_border_radius= »none » row_border_radius_applies= »bg » overflow= »visible » overlay_strength= »0.3″ gradient_direction= »left_to_right » shape_divider_position= »bottom » bg_image_animation= »none » gradient_type= »default » shape_type= » »][vc_column column_padding= »no-extra-padding » column_padding_tablet= »inherit » column_padding_phone= »inherit » column_padding_position= »all » column_element_direction_desktop= »default » column_element_spacing= »default » desktop_text_alignment= »default » tablet_text_alignment= »default » phone_text_alignment= »default » background_color_opacity= »1″ background_hover_color_opacity= »1″ column_backdrop_filter= »none » column_shadow= »none » column_border_radius= »none » column_link_target= »_self » column_position= »default » gradient_direction= »left_to_right » overlay_strength= »0.3″ width= »1/1″ tablet_width_inherit= »default » animation_type= »default » bg_image_animation= »none » border_type= »simple » column_border_width= »none » column_border_style= »solid »][vc_column_text]Envie de participer à la sobriété énergétique de la filière tourisme du Pilat ? \nComment réduire vos consommations énergétiques ? Des conseils et des solutions pour agir concrètement… Les clés pour anticiper au mieux les conséquences du changement climatique (impact de la climatisation en été\, du chauffage en hiver) et maîtriser les coût énergétiques.[/vc_column_text][/vc_column][/vc_row][vc_row type= »in_container » full_screen_row_position= »middle » column_margin= »default » column_direction= »default » column_direction_tablet= »default » column_direction_phone= »default » scene_position= »center » top_padding= »0% » text_color= »dark » text_align= »left » row_border_radius= »none » row_border_radius_applies= »bg » overflow= »visible » overlay_strength= »0.3″ gradient_direction= »left_to_right » shape_divider_position= »bottom » bg_image_animation= »none » gradient_type= »default » shape_type= » »][vc_column column_padding= »no-extra-padding » column_padding_tablet= »inherit » column_padding_phone= »inherit » column_padding_position= »all » column_element_direction_desktop= »default » column_element_spacing= »default » desktop_text_alignment= »default » tablet_text_alignment= »default » phone_text_alignment= »default » background_color_opacity= »1″ background_hover_color_opacity= »1″ column_backdrop_filter= »none » column_shadow= »none » column_border_radius= »none » column_link_target= »_self » column_position= »default » gradient_direction= »left_to_right » overlay_strength= »0.3″ width= »1/1″ tablet_width_inherit= »default » animation_type= »default » bg_image_animation= »none » border_type= »simple » column_border_width= »none » column_border_style= »solid »] Au programme : \n\nLa stratégie énergétique du Pilat\nLe schéma directeur énergique renouvelable à 2050 par Marie Mottot\, Directrice adjointe\, Parc du Pilat\nDes conseils pour vos économies d’énergie dans le secteur du tourisme par Philippe Audureau\, Expert Conseil énergie en entreprise\, EDEL 42.\nLe fonds chaleur\, une aide pour vos projets énergétiques durables\n» par Lou Cadars-Bois\, Chargée de mission énergies renouvelables Parc naturel régional Pilat/ Saint-Etienne-Métropole\n» témoignage de Mme Bouvier\, propriétaire du Domaine de la Barollière – l’exemple d’une installation chaufferie bois\nVerre de l’amitié offert par le Domaine de la Barollière.\n\n [/vc_column][/vc_row][vc_row type= »in_container » full_screen_row_position= »middle » column_margin= »default » column_direction= »default » column_direction_tablet= »default » column_direction_phone= »default » scene_position= »center » top_padding= »0% » text_color= »dark » text_align= »left » row_border_radius= »none » row_border_radius_applies= »bg » overflow= »visible » overlay_strength= »0.3″ gradient_direction= »left_to_right » shape_divider_position= »bottom » bg_image_animation= »none » gradient_type= »default » shape_type= » »][vc_column column_padding= »no-extra-padding » column_padding_tablet= »inherit » column_padding_phone= »inherit » column_padding_position= »all » column_element_direction_desktop= »default » column_element_spacing= »default » centered_text= »true » desktop_text_alignment= »center » tablet_text_alignment= »default » phone_text_alignment= »default » background_color_opacity= »1″ background_hover_color_opacity= »1″ column_backdrop_filter= »none » column_shadow= »none » column_border_radius= »none » column_link_target= »_self » column_position= »default » gradient_direction= »left_to_right » overlay_strength= »0.3″ width= »1/1″ tablet_width_inherit= »default » animation_type= »default » bg_image_animation= »none » border_type= »simple » column_border_width= »none » column_border_style= »solid » column_padding_type= »default » gradient_type= »default »][nectar_btn size= »jumbo » open_new_tab= »true » button_style= »regular » button_color_2= »Accent-Color » icon_family= »none » text= »S’inscrire : clhernould@parc-naturel-pilat.fr » url= »mailto:clhernould@parc-naturel-pilat.fr »][vc_column_text]\nCet atelier est proposé par le Parc Naturel Régional du Pilat. Inscription obligatoire par mail (ci-dessus) ou téléphone : 04 74 87 52 01 \n[/vc_column_text][/vc_column][/vc_row]
URL:https://pro.loiretourisme.com/evenement/parc-du-pilat-atelier-sobriete-energetique/
LOCATION:Domaine de la Barollière\, 2250 Route de la Barollière\, Saint-Paul-en-Jarez\, 42740
CATEGORIES:Tourisme Responsable
ATTACH;FMTTYPE=image/jpeg:https://pro.loiretourisme.com/wp-content/uploads/2026/03/logo_pnr_pilat_2.jpg
END:VEVENT
END:VCALENDAR