BEGIN:VCALENDAR
VERSION:2.0
PRODID:-//Loire Tourisme Pro - ECPv6.15.20//NONSGML v1.0//EN
CALSCALE:GREGORIAN
METHOD:PUBLISH
X-WR-CALNAME:Loire Tourisme Pro
X-ORIGINAL-URL:https://pro.loiretourisme.com
X-WR-CALDESC:Évènements pour Loire Tourisme Pro
REFRESH-INTERVAL;VALUE=DURATION:PT1H
X-Robots-Tag:noindex
X-PUBLISHED-TTL:PT1H
BEGIN:VTIMEZONE
TZID:Europe/Paris
BEGIN:DAYLIGHT
TZOFFSETFROM:+0100
TZOFFSETTO:+0200
TZNAME:CEST
DTSTART:20250330T010000
END:DAYLIGHT
BEGIN:STANDARD
TZOFFSETFROM:+0200
TZOFFSETTO:+0100
TZNAME:CET
DTSTART:20251026T010000
END:STANDARD
BEGIN:DAYLIGHT
TZOFFSETFROM:+0100
TZOFFSETTO:+0200
TZNAME:CEST
DTSTART:20260329T010000
END:DAYLIGHT
BEGIN:STANDARD
TZOFFSETFROM:+0200
TZOFFSETTO:+0100
TZNAME:CET
DTSTART:20261025T010000
END:STANDARD
BEGIN:DAYLIGHT
TZOFFSETFROM:+0100
TZOFFSETTO:+0200
TZNAME:CEST
DTSTART:20270328T010000
END:DAYLIGHT
BEGIN:STANDARD
TZOFFSETFROM:+0200
TZOFFSETTO:+0100
TZNAME:CET
DTSTART:20271031T010000
END:STANDARD
END:VTIMEZONE
BEGIN:VEVENT
DTSTART;VALUE=DATE:20260528
DTEND;VALUE=DATE:20260530
DTSTAMP:20260422T023642
CREATED:20251212T100425Z
LAST-MODIFIED:20251212T100425Z
UID:15629-1779926400-1780099199@pro.loiretourisme.com
SUMMARY:Formation "Mobiliser les socio-pros au sein de son office de tourisme"
DESCRIPTION:[vc_row type= »in_container » full_screen_row_position= »middle » column_margin= »default » column_direction= »default » column_direction_tablet= »default » column_direction_phone= »default » scene_position= »center » text_color= »dark » text_align= »left » row_border_radius= »none » row_border_radius_applies= »bg » overflow= »visible » overlay_strength= »0.3″ gradient_direction= »left_to_right » shape_divider_position= »bottom » bg_image_animation= »none »][vc_column column_padding= »no-extra-padding » column_padding_tablet= »inherit » column_padding_phone= »inherit » column_padding_position= »all » column_element_direction_desktop= »default » column_element_spacing= »default » desktop_text_alignment= »default » tablet_text_alignment= »default » phone_text_alignment= »default » background_color_opacity= »1″ background_hover_color_opacity= »1″ column_backdrop_filter= »none » column_shadow= »none » column_border_radius= »none » column_link_target= »_self » column_position= »default » gradient_direction= »left_to_right » overlay_strength= »0.3″ width= »1/1″ tablet_width_inherit= »default » animation_type= »default » bg_image_animation= »none » border_type= »simple » column_border_width= »none » column_border_style= »solid »][vc_column_text]Faire de votre office de tourisme un prestataire indispensable pour les acteurs du territoire \nFace à la multiplication des canaux de diffusion\, de nombreux professionnels s’interrogent sur l’intérêt de poursuivre leur adhésion à l’office de tourisme. Pour rester un partenaire incontournable\, l’OT doit désormais affirmer son rôle de prestataire de services en proposant un accompagnement structuré et à forte valeur ajoutée : appui numérique\, production photo/vidéo\, commercialisation de produits packagés\, vente et réservation en ligne… Dans ce contexte\, développer une offre claire sous forme de « packs » devient essentiel pour renforcer les ressources de la structure et répondre aux besoins des socio-professionnels. À l’issue de la formation\, les participants seront capables de concevoir et valoriser une gamme de produits packagés attractive et adaptée à leur réseau.[/vc_column_text] Les objectifs de la formation : \n\nSavoir structurer et présenter une offre de services claire et attractive pour les socio-pros.\nÊtre capable de choisir et mettre en œuvre des actions de prospection et de fidélisation adaptées.\nAdopter une posture d’animation et de conseil qui valorise le rôle de l’OT auprès des socio-pros\nIntégrer de nouveaux outils (digital\, IA) pour mieux cibler\, communiquer et suivre ses partenaires.\n\n  Modalités : \n\n📍 Formation en présentiel à Saint-Etienne\n📅 2 jours – 14 heures de formation\n📆 Prochaine session : les 28 et 29 mai\n💶 Tarif : 700€ HT (des prises en charge sont possibles avec votre OPCO)\n\n [vc_column_text]Pour qui ?\nChargé.e d’animation de son réseau de partenaires[/vc_column_text][/vc_column][/vc_row][vc_row type= »in_container » full_screen_row_position= »middle » column_margin= »default » column_direction= »default » column_direction_tablet= »default » column_direction_phone= »default » scene_position= »center » text_color= »dark » text_align= »left » row_border_radius= »none » row_border_radius_applies= »bg » overflow= »visible » overlay_strength= »0.3″ gradient_direction= »left_to_right » shape_divider_position= »bottom » bg_image_animation= »none »][vc_column column_padding= »no-extra-padding » column_padding_tablet= »inherit » column_padding_phone= »inherit » column_padding_position= »all » column_element_direction_desktop= »default » column_element_spacing= »default » centered_text= »true » desktop_text_alignment= »center » tablet_text_alignment= »default » phone_text_alignment= »default » background_color_opacity= »1″ background_hover_color_opacity= »1″ column_backdrop_filter= »none » column_shadow= »none » column_border_radius= »none » column_link_target= »_self » column_position= »default » gradient_direction= »left_to_right » overlay_strength= »0.3″ width= »1/1″ tablet_width_inherit= »default » animation_type= »default » bg_image_animation= »none » border_type= »simple » column_border_width= »none » column_border_style= »solid » column_padding_type= »default » gradient_type= »default »][nectar_btn size= »jumbo » open_new_tab= »true » button_style= »regular » button_color_2= »Accent-Color » icon_family= »none » url= »https://www.trajectoires-tourisme.com/formations/mobiliser-les-socio-pros-au-sein-de-son-office-de-tourisme-1477830/ » text= »Inscrivez-vous »][vc_column_text]\nAttention\, les places ouvertes dans la formation sont limitées.\n[/vc_column_text][image_with_animation image_url= »13110″ image_size= »large » animation_type= »entrance » animation= »None » animation_movement_type= »transform_y » hover_animation= »none » alignment= »center » img_link_target= »_blank » border_radius= »none » box_shadow= »none » image_loading= »default » max_width= »100% » max_width_mobile= »default » img_link= »https://www.trajectoires-tourisme.com/ »][/vc_column][/vc_row]
URL:https://pro.loiretourisme.com/evenement/formation-mobiliser-les-socio-pros-au-sein-de-son-office-de-tourisme/
LOCATION:Loire Tourisme\, 22 Rue Paul Petit\, Saint-Etienne\, 42000
CATEGORIES:Formation,Loire Tourisme
ATTACH;FMTTYPE=image/jpeg:https://pro.loiretourisme.com/wp-content/uploads/2025/12/DC_negocier-scaled-1.jpg
END:VEVENT
END:VCALENDAR