BEGIN:VCALENDAR
VERSION:2.0
PRODID:-//Loire Tourisme Pro - ECPv6.15.20//NONSGML v1.0//EN
CALSCALE:GREGORIAN
METHOD:PUBLISH
X-ORIGINAL-URL:https://pro.loiretourisme.com
X-WR-CALDESC:Évènements pour Loire Tourisme Pro
REFRESH-INTERVAL;VALUE=DURATION:PT1H
X-Robots-Tag:noindex
X-PUBLISHED-TTL:PT1H
BEGIN:VTIMEZONE
TZID:Europe/Paris
BEGIN:DAYLIGHT
TZOFFSETFROM:+0100
TZOFFSETTO:+0200
TZNAME:CEST
DTSTART:20240331T010000
END:DAYLIGHT
BEGIN:STANDARD
TZOFFSETFROM:+0200
TZOFFSETTO:+0100
TZNAME:CET
DTSTART:20241027T010000
END:STANDARD
BEGIN:DAYLIGHT
TZOFFSETFROM:+0100
TZOFFSETTO:+0200
TZNAME:CEST
DTSTART:20250330T010000
END:DAYLIGHT
BEGIN:STANDARD
TZOFFSETFROM:+0200
TZOFFSETTO:+0100
TZNAME:CET
DTSTART:20251026T010000
END:STANDARD
BEGIN:DAYLIGHT
TZOFFSETFROM:+0100
TZOFFSETTO:+0200
TZNAME:CEST
DTSTART:20260329T010000
END:DAYLIGHT
BEGIN:STANDARD
TZOFFSETFROM:+0200
TZOFFSETTO:+0100
TZNAME:CET
DTSTART:20261025T010000
END:STANDARD
END:VTIMEZONE
BEGIN:VEVENT
DTSTART;VALUE=DATE:20251117
DTEND;VALUE=DATE:20251119
DTSTAMP:20260422T054416
CREATED:20250428T115839Z
LAST-MODIFIED:20251117T140003Z
UID:12995-1763337600-1763510399@pro.loiretourisme.com
SUMMARY:Formation "Marque Tourisme & Handicap : formation des personnels d’accueil"
DESCRIPTION:[vc_row type= »in_container » full_screen_row_position= »middle » column_margin= »default » column_direction= »default » column_direction_tablet= »default » column_direction_phone= »default » scene_position= »center » text_color= »dark » text_align= »left » row_border_radius= »none » row_border_radius_applies= »bg » overflow= »visible » overlay_strength= »0.3″ gradient_direction= »left_to_right » shape_divider_position= »bottom » bg_image_animation= »none »][vc_column column_padding= »no-extra-padding » column_padding_tablet= »inherit » column_padding_phone= »inherit » column_padding_position= »all » column_element_direction_desktop= »default » column_element_spacing= »default » desktop_text_alignment= »default » tablet_text_alignment= »default » phone_text_alignment= »default » background_color_opacity= »1″ background_hover_color_opacity= »1″ column_backdrop_filter= »none » column_shadow= »none » column_border_radius= »none » column_link_target= »_self » column_position= »default » gradient_direction= »left_to_right » overlay_strength= »0.3″ width= »1/1″ tablet_width_inherit= »default » animation_type= »default » bg_image_animation= »none » border_type= »simple » column_border_width= »none » column_border_style= »solid »][vc_column_text]Un accueil de qualité pour tous vos visiteurs\, en toute sérénité. \nVous souhaitez que votre site ou établissement soit reconnu pour la qualité de son accueil des personnes en situation de handicap ? Cette formation vous permet de sensibiliser et former votre personnel d’accueil aux bons réflexes\, pour garantir une expérience inclusive et conforme aux exigences de la marque Tourisme & Handicap. \n  \nLes objectifs de la formation : \n\nIdentifier les différentes personnes en situation de handicap et leurs besoins.\nConnaître le contexte réglementaire et comprendre les enjeux de l’accessibilité et du label Tourisme & Handicap.\nOrganiser son espace d’accueil et accueillir sereinement cette clientèle avec des outils de médiation adaptés.\nRepérer l’offre touristique accessible\, avec accompagnement et/ou en autonomie sur son territoire et la valorise.\n\nPour qui ?\nTout public\, en priorité personnel des offices de tourisme labellisés Tourisme & Handicap. \nModalités : \n📍 Formation en présentiel à Saint-Etienne \n📅 2 jours – 14 heures de formation \n📆 Prochaine session : les 17 et 18 Novembre \n💶 Tarif : 700€ (des prises en charge sont possibles (OPCO\, CPF…)) \nAttention\, les places ouvertes dans la formation sont limitées.[/vc_column_text][nectar_btn size= »jumbo » open_new_tab= »true » button_style= »regular » button_color_2= »Accent-Color » icon_family= »none » url= »https://www.trajectoires-tourisme.com/formations/marque-tourisme-handicap-formation-personnel-accueil/ » text= »Inscrivez-vous »][image_with_animation image_url= »13110″ image_size= »large » animation_type= »entrance » animation= »None » animation_movement_type= »transform_y » hover_animation= »none » alignment= »center » img_link_target= »_blank » border_radius= »none » box_shadow= »none » image_loading= »default » max_width= »100% » max_width_mobile= »default » img_link= »https://www.trajectoires-tourisme.com/ »][/vc_column][/vc_row]
URL:https://pro.loiretourisme.com/evenement/formation-marque-tourisme-handicap-formation-des-personnels-daccueil/
LOCATION:Loire Tourisme\, 22 Rue Paul Petit\, Saint-Etienne\, 42000
CATEGORIES:Formation,Loire Tourisme,Tourisme & Handicap
ATTACH;FMTTYPE=image/jpeg:https://pro.loiretourisme.com/wp-content/uploads/2025/07/R-Charlieu-_Relais_de_l_abbaye_et_village©ADT42-L.Lambert.jpg15.jpg
END:VEVENT
BEGIN:VEVENT
DTSTART;VALUE=DATE:20251120
DTEND;VALUE=DATE:20251122
DTSTAMP:20260422T054416
CREATED:20250428T120236Z
LAST-MODIFIED:20250710T140917Z
UID:12999-1763596800-1763769599@pro.loiretourisme.com
SUMMARY:Formation "Rendre sa boutique plus performante"
DESCRIPTION:[vc_row type= »in_container » full_screen_row_position= »middle » column_margin= »default » column_direction= »default » column_direction_tablet= »default » column_direction_phone= »default » scene_position= »center » text_color= »dark » text_align= »left » row_border_radius= »none » row_border_radius_applies= »bg » overflow= »visible » overlay_strength= »0.3″ gradient_direction= »left_to_right » shape_divider_position= »bottom » bg_image_animation= »none »][vc_column column_padding= »no-extra-padding » column_padding_tablet= »inherit » column_padding_phone= »inherit » column_padding_position= »all » column_element_direction_desktop= »default » column_element_spacing= »default » desktop_text_alignment= »default » tablet_text_alignment= »default » phone_text_alignment= »default » background_color_opacity= »1″ background_hover_color_opacity= »1″ column_backdrop_filter= »none » column_shadow= »none » column_border_radius= »none » column_link_target= »_self » column_position= »default » gradient_direction= »left_to_right » overlay_strength= »0.3″ width= »1/1″ tablet_width_inherit= »default » animation_type= »default » bg_image_animation= »none » border_type= »simple » column_border_width= »none » column_border_style= »solid »][vc_column_text]Faites de votre boutique un véritable levier de valorisation ! \nSouvent sous-exploitée\, la boutique d’un site touristique peut devenir un atout stratégique. Cette formation vous aide à optimiser votre offre de produits\, votre agencement et vos techniques de vente pour booster la performance commerciale de votre espace boutique. \n  \nLes objectifs de la formation : \n\nDéfinir le rôle et les objectifs de sa boutique.\nIdentifier la bonne zone pour son espace boutique.\nPrésenter ses produits et faire vivre sa boutique.\nDéfinir les indicateurs permettant de bien gérer sa boutique (stocks…).\n\nPour qui ?\nDirecteur\, responsable du service commercial ou accueil \nModalités : \n📍 Formation en présentiel à Saint-Etienne \n📅 2 jours – 14 heures de formation \n📆 Prochaine session : les 20 et 21 Novembre \n💶 Tarif : 700€ (des prises en charge sont possibles (OPCO\, CPF…)) \nAttention\, les places ouvertes dans la formation sont limitées.[/vc_column_text][nectar_btn size= »jumbo » open_new_tab= »true » button_style= »regular » button_color_2= »Accent-Color » icon_family= »none » url= »https://www.trajectoires-tourisme.com/formations/rendre-sa-boutique-plus-performante-1268426/ » text= »Inscrivez-vous »][image_with_animation image_url= »13110″ image_size= »large » animation_type= »entrance » animation= »None » animation_movement_type= »transform_y » hover_animation= »none » alignment= »center » img_link_target= »_blank » border_radius= »none » box_shadow= »none » image_loading= »default » max_width= »100% » max_width_mobile= »default » img_link= »https://www.trajectoires-tourisme.com/ »][/vc_column][/vc_row]
URL:https://pro.loiretourisme.com/evenement/formation-rendre-sa-boutique-plus-performante/
LOCATION:Crédit Agricole\, 94 Rue Bergson\, Saint-Etienne\, 42000\, France
CATEGORIES:Formation,Loire Tourisme
ATTACH;FMTTYPE=image/png:https://pro.loiretourisme.com/wp-content/uploads/2025/04/FOR_boutique_durable-e1751970193192.png
END:VEVENT
BEGIN:VEVENT
DTSTART;TZID=Europe/Paris:20251128T140000
DTEND;TZID=Europe/Paris:20251130T190000
DTSTAMP:20260422T054416
CREATED:20251106T111433Z
LAST-MODIFIED:20251106T111532Z
UID:15357-1764338400-1764529200@pro.loiretourisme.com
SUMMARY:Salon Origine Loire
DESCRIPTION:[vc_row type= »in_container » full_screen_row_position= »middle » column_margin= »default » column_direction= »default » column_direction_tablet= »default » column_direction_phone= »default » scene_position= »center » text_color= »dark » text_align= »left » row_border_radius= »none » row_border_radius_applies= »bg » overflow= »visible » overlay_strength= »0.3″ gradient_direction= »left_to_right » shape_divider_position= »bottom » bg_image_animation= »none »][vc_column column_padding= »no-extra-padding » column_padding_tablet= »inherit » column_padding_phone= »inherit » column_padding_position= »all » column_element_direction_desktop= »default » column_element_spacing= »default » desktop_text_alignment= »default » tablet_text_alignment= »default » phone_text_alignment= »default » background_color_opacity= »1″ background_hover_color_opacity= »1″ column_backdrop_filter= »none » column_shadow= »none » column_border_radius= »none » column_link_target= »_self » column_position= »default » gradient_direction= »left_to_right » overlay_strength= »0.3″ width= »1/1″ tablet_width_inherit= »default » animation_type= »default » bg_image_animation= »none » border_type= »simple » column_border_width= »none » column_border_style= »solid »][vc_column_text]Les 28\, 29 et 30 novembre 2025\, le Scarabée de Roanne accueille la première édition d’Origine Loire\, un événement inédit qui célèbre les talents\, les richesses et les savoir-faire ligériens.\nLe Département de la Loire est partenaire de l’événement ! \n100 exposants et 10 000 visiteurs attendus pour ce salon grand public \nDurant 3 jours\, le grand public va pouvoir préparer les fêtes en venant à la rencontre des 100 entreprises\, artisans\, commerçants\, créateurs\, associations et collectivités installés au gré des 3 200 m2 d’exposition. \nVotre activité trouvera forcément sa place parmi les 5 pôles d’exposition : \n\nSaveurs : Gastronomie\, boissons et produits du terroir\nTendances : Artisanat et boutiques\nDécouvertes : Culture\, patrimoine\, loisirs et sports\nInnovations : Industrie\, start-up\, innovations sociales et environnementales\nInitiatives : Emploi et formation\n\nLe Département de la Loire\, Loire Tourisme\, Roannais Agglomération et les Offices de Tourisme du département seront présents\, avec force et cohérence\, sur un stand de 36m2 pour faire la promotion de la destination Loire. Nous avons déjà hâte de vous y retrouver ![/vc_column_text][nectar_btn size= »jumbo » open_new_tab= »true » button_style= »regular » button_color_2= »Accent-Color » icon_family= »none » url= »https://www.origine-loire.fr/exposer/ » text= »Inscrivez-vous »][image_with_animation image_url= »14217″ image_size= »medium » animation_type= »entrance » animation= »None » animation_movement_type= »transform_y » hover_animation= »none » alignment= »center » img_link_target= »_blank » border_radius= »none » box_shadow= »none » image_loading= »default » max_width= »100% » max_width_mobile= »default » img_link= »https://www.origine-loire.fr/ »][/vc_column][/vc_row]
URL:https://pro.loiretourisme.com/evenement/salon-origine-loire/
LOCATION:Le Scarabée Roanne\, Rue du Marclet\, Riorges\, 42153
CATEGORIES:Formation,Loire Tourisme
ATTACH;FMTTYPE=image/jpeg:https://pro.loiretourisme.com/wp-content/uploads/2025/06/Bandeau-Origine-Loire.jpg
END:VEVENT
END:VCALENDAR