BEGIN:VCALENDAR
VERSION:2.0
PRODID:-//Loire Tourisme Pro - ECPv6.15.20//NONSGML v1.0//EN
CALSCALE:GREGORIAN
METHOD:PUBLISH
X-ORIGINAL-URL:https://pro.loiretourisme.com
X-WR-CALDESC:Évènements pour Loire Tourisme Pro
REFRESH-INTERVAL;VALUE=DURATION:PT1H
X-Robots-Tag:noindex
X-PUBLISHED-TTL:PT1H
BEGIN:VTIMEZONE
TZID:Europe/Paris
BEGIN:DAYLIGHT
TZOFFSETFROM:+0100
TZOFFSETTO:+0200
TZNAME:CEST
DTSTART:20240331T010000
END:DAYLIGHT
BEGIN:STANDARD
TZOFFSETFROM:+0200
TZOFFSETTO:+0100
TZNAME:CET
DTSTART:20241027T010000
END:STANDARD
BEGIN:DAYLIGHT
TZOFFSETFROM:+0100
TZOFFSETTO:+0200
TZNAME:CEST
DTSTART:20250330T010000
END:DAYLIGHT
BEGIN:STANDARD
TZOFFSETFROM:+0200
TZOFFSETTO:+0100
TZNAME:CET
DTSTART:20251026T010000
END:STANDARD
BEGIN:DAYLIGHT
TZOFFSETFROM:+0100
TZOFFSETTO:+0200
TZNAME:CEST
DTSTART:20260329T010000
END:DAYLIGHT
BEGIN:STANDARD
TZOFFSETFROM:+0200
TZOFFSETTO:+0100
TZNAME:CET
DTSTART:20261025T010000
END:STANDARD
END:VTIMEZONE
BEGIN:VEVENT
DTSTART;VALUE=DATE:20251117
DTEND;VALUE=DATE:20251119
DTSTAMP:20260420T111202
CREATED:20250428T115839Z
LAST-MODIFIED:20251117T140003Z
UID:12995-1763337600-1763510399@pro.loiretourisme.com
SUMMARY:Formation "Marque Tourisme & Handicap : formation des personnels d’accueil"
DESCRIPTION:[vc_row type= »in_container » full_screen_row_position= »middle » column_margin= »default » column_direction= »default » column_direction_tablet= »default » column_direction_phone= »default » scene_position= »center » text_color= »dark » text_align= »left » row_border_radius= »none » row_border_radius_applies= »bg » overflow= »visible » overlay_strength= »0.3″ gradient_direction= »left_to_right » shape_divider_position= »bottom » bg_image_animation= »none »][vc_column column_padding= »no-extra-padding » column_padding_tablet= »inherit » column_padding_phone= »inherit » column_padding_position= »all » column_element_direction_desktop= »default » column_element_spacing= »default » desktop_text_alignment= »default » tablet_text_alignment= »default » phone_text_alignment= »default » background_color_opacity= »1″ background_hover_color_opacity= »1″ column_backdrop_filter= »none » column_shadow= »none » column_border_radius= »none » column_link_target= »_self » column_position= »default » gradient_direction= »left_to_right » overlay_strength= »0.3″ width= »1/1″ tablet_width_inherit= »default » animation_type= »default » bg_image_animation= »none » border_type= »simple » column_border_width= »none » column_border_style= »solid »][vc_column_text]Un accueil de qualité pour tous vos visiteurs\, en toute sérénité. \nVous souhaitez que votre site ou établissement soit reconnu pour la qualité de son accueil des personnes en situation de handicap ? Cette formation vous permet de sensibiliser et former votre personnel d’accueil aux bons réflexes\, pour garantir une expérience inclusive et conforme aux exigences de la marque Tourisme & Handicap. \n  \nLes objectifs de la formation : \n\nIdentifier les différentes personnes en situation de handicap et leurs besoins.\nConnaître le contexte réglementaire et comprendre les enjeux de l’accessibilité et du label Tourisme & Handicap.\nOrganiser son espace d’accueil et accueillir sereinement cette clientèle avec des outils de médiation adaptés.\nRepérer l’offre touristique accessible\, avec accompagnement et/ou en autonomie sur son territoire et la valorise.\n\nPour qui ?\nTout public\, en priorité personnel des offices de tourisme labellisés Tourisme & Handicap. \nModalités : \n📍 Formation en présentiel à Saint-Etienne \n📅 2 jours – 14 heures de formation \n📆 Prochaine session : les 17 et 18 Novembre \n💶 Tarif : 700€ (des prises en charge sont possibles (OPCO\, CPF…)) \nAttention\, les places ouvertes dans la formation sont limitées.[/vc_column_text][nectar_btn size= »jumbo » open_new_tab= »true » button_style= »regular » button_color_2= »Accent-Color » icon_family= »none » url= »https://www.trajectoires-tourisme.com/formations/marque-tourisme-handicap-formation-personnel-accueil/ » text= »Inscrivez-vous »][image_with_animation image_url= »13110″ image_size= »large » animation_type= »entrance » animation= »None » animation_movement_type= »transform_y » hover_animation= »none » alignment= »center » img_link_target= »_blank » border_radius= »none » box_shadow= »none » image_loading= »default » max_width= »100% » max_width_mobile= »default » img_link= »https://www.trajectoires-tourisme.com/ »][/vc_column][/vc_row]
URL:https://pro.loiretourisme.com/evenement/formation-marque-tourisme-handicap-formation-des-personnels-daccueil/
LOCATION:Loire Tourisme\, 22 Rue Paul Petit\, Saint-Etienne\, 42000
CATEGORIES:Formation,Loire Tourisme,Tourisme & Handicap
ATTACH;FMTTYPE=image/jpeg:https://pro.loiretourisme.com/wp-content/uploads/2025/07/R-Charlieu-_Relais_de_l_abbaye_et_village©ADT42-L.Lambert.jpg15.jpg
END:VEVENT
BEGIN:VEVENT
DTSTART;TZID=Europe/Paris:20251118T100000
DTEND;TZID=Europe/Paris:20251118T110000
DTSTAMP:20260420T111202
CREATED:20250908T144653Z
LAST-MODIFIED:20250908T144653Z
UID:14749-1763460000-1763463600@pro.loiretourisme.com
SUMMARY:Webinaire - Adapter son offre aux clientèles en situation de handicap : et si c’était plus simple qu’on ne croit ?
DESCRIPTION:[vc_row type= »in_container » full_screen_row_position= »middle » column_margin= »default » column_direction= »default » column_direction_tablet= »default » column_direction_phone= »default » scene_position= »center » top_padding= »0% » text_color= »dark » text_align= »left » row_border_radius= »none » row_border_radius_applies= »bg » overflow= »visible » overlay_strength= »0.3″ gradient_direction= »left_to_right » shape_divider_position= »bottom » bg_image_animation= »none » gradient_type= »default » shape_type= » »][vc_column column_padding= »no-extra-padding » column_padding_tablet= »inherit » column_padding_phone= »inherit » column_padding_position= »all » column_element_direction_desktop= »default » column_element_spacing= »default » desktop_text_alignment= »default » tablet_text_alignment= »default » phone_text_alignment= »default » background_color_opacity= »1″ background_hover_color_opacity= »1″ column_backdrop_filter= »none » column_shadow= »none » column_border_radius= »none » column_link_target= »_self » column_position= »default » gradient_direction= »left_to_right » overlay_strength= »0.3″ width= »1/1″ tablet_width_inherit= »default » animation_type= »default » bg_image_animation= »none » border_type= »simple » column_border_width= »none » column_border_style= »solid »][divider line_type= »No Line » custom_height= »20″][vc_column_text]En France\, 12 millions de personnes sont en situation de handicap. Adapter son offre\, c’est offrir à chacun la possibilité de voyager. En tant que professionnels du tourisme\, vous avez le pouvoir de transformer cette accessibilité en véritable atout pour votre activité et pour vos visiteurs.[/vc_column_text] Les objectifs du webinaire : \n\nComprendre les besoins spécifiques des clientèles en situation de handicap (moteur\, visuel\, auditif\, mental).\nIdentifier les leviers d’amélioration de l’accessibilité dans son activité (hébergement\, restauration\, sites de visite\, activités\, etc.).\nDécouvrir les aides\, dispositifs et partenaires pour avancer\nS’inspirer de retours d’expériences de structures ayant amélioré leur accessibilité.\n\n [divider line_type= »No Line »][vc_column_text]Pour qui ?\nTout prestataire touristique ligérien.[/vc_column_text][/vc_column][/vc_row][vc_row type= »in_container » full_screen_row_position= »middle » column_margin= »default » column_direction= »default » column_direction_tablet= »default » column_direction_phone= »default » scene_position= »center » text_color= »dark » text_align= »left » row_border_radius= »none » row_border_radius_applies= »bg » overflow= »visible » overlay_strength= »0.3″ gradient_direction= »left_to_right » shape_divider_position= »bottom » bg_image_animation= »none »][vc_column column_padding= »no-extra-padding » column_padding_tablet= »inherit » column_padding_phone= »inherit » column_padding_position= »all » column_element_direction_desktop= »default » column_element_spacing= »default » centered_text= »true » desktop_text_alignment= »center » tablet_text_alignment= »default » phone_text_alignment= »default » background_color_opacity= »1″ background_hover_color_opacity= »1″ column_backdrop_filter= »none » column_shadow= »none » column_border_radius= »none » column_link_target= »_self » column_position= »default » gradient_direction= »left_to_right » overlay_strength= »0.3″ width= »1/1″ tablet_width_inherit= »default » animation_type= »default » bg_image_animation= »none » border_type= »simple » column_border_width= »none » column_border_style= »solid » column_padding_type= »default » gradient_type= »default »][nectar_btn size= »jumbo » open_new_tab= »true » button_style= »regular » button_color_2= »Accent-Color » icon_family= »none » text= »Inscrivez-vous » url= »https://forms.office.com/Pages/ResponsePage.aspx?id=ecflvEo5MUmUPZMt-FBRh333MMQ6jd5Ptx5sVwUD2c1UN09MM1lHWUw0RktJNUtJN1M1RlFMUEtaWi4u »][vc_column_text]\nParticipation gratuite. Vous recevrez le lien de connexion en amont du webinaire.\n[/vc_column_text][/vc_column][/vc_row]
URL:https://pro.loiretourisme.com/evenement/webinaire-adapter-son-offre-aux-clienteles-en-situation-de-handicap-et-si-cetait-plus-simple-quon-ne-croit/
LOCATION:En ligne
CATEGORIES:Tourisme & Handicap,Tourisme Responsable,Webinaire
ATTACH;FMTTYPE=image/jpeg:https://pro.loiretourisme.com/wp-content/uploads/2025/09/Webinaire-Projecteurs-Tourisme-Handicaps.jpg
ORGANIZER;CN="Loire Tourisme":MAILTO:informations@loiretourisme.com
END:VEVENT
BEGIN:VEVENT
DTSTART;TZID=Europe/Paris:20251118T100000
DTEND;TZID=Europe/Paris:20251118T111500
DTSTAMP:20260420T111202
CREATED:20250715T100301Z
LAST-MODIFIED:20250715T100301Z
UID:14581-1763460000-1763464500@pro.loiretourisme.com
SUMMARY:Webinaire CCI - Lean Management & RSE
DESCRIPTION:[vc_row type= »in_container » full_screen_row_position= »middle » column_margin= »default » column_direction= »default » column_direction_tablet= »default » column_direction_phone= »default » scene_position= »center » top_padding= »0% » text_color= »dark » text_align= »left » row_border_radius= »none » row_border_radius_applies= »bg » overflow= »visible » overlay_strength= »0.3″ gradient_direction= »left_to_right » shape_divider_position= »bottom » bg_image_animation= »none » gradient_type= »default » shape_type= » »][vc_column column_padding= »no-extra-padding » column_padding_tablet= »inherit » column_padding_phone= »inherit » column_padding_position= »all » column_element_direction_desktop= »default » column_element_spacing= »default » desktop_text_alignment= »default » tablet_text_alignment= »default » phone_text_alignment= »default » background_color_opacity= »1″ background_hover_color_opacity= »1″ column_backdrop_filter= »none » column_shadow= »none » column_border_radius= »none » column_link_target= »_self » column_position= »default » gradient_direction= »left_to_right » overlay_strength= »0.3″ width= »1/1″ tablet_width_inherit= »default » animation_type= »default » bg_image_animation= »none » border_type= »simple » column_border_width= »none » column_border_style= »solid »][vc_column_text]Comment conjuguer la performance économique et la responsabilité sociétale ? \nFace aux défis environnementaux\, sociaux et économiques\, les entreprises sont appelées à transformer leurs pratiques. C’est dans ce contexte que se rencontrent deux approches : \n\nLe Lean Management : Optimisation des processus et la réduction des gaspillages\nLa RSE : impact plus éthique\, durable et inclusif\n\n[/vc_column_text][/vc_column][/vc_row][vc_row type= »in_container » full_screen_row_position= »middle » column_margin= »default » column_direction= »default » column_direction_tablet= »default » column_direction_phone= »default » scene_position= »center » top_padding= »0% » text_color= »dark » text_align= »left » row_border_radius= »none » row_border_radius_applies= »bg » overflow= »visible » overlay_strength= »0.3″ gradient_direction= »left_to_right » shape_divider_position= »bottom » bg_image_animation= »none » gradient_type= »default » shape_type= » »][vc_column column_padding= »no-extra-padding » column_padding_tablet= »inherit » column_padding_phone= »inherit » column_padding_position= »all » column_element_direction_desktop= »default » column_element_spacing= »default » desktop_text_alignment= »default » tablet_text_alignment= »default » phone_text_alignment= »default » background_color_opacity= »1″ background_hover_color_opacity= »1″ column_backdrop_filter= »none » column_shadow= »none » column_border_radius= »none » column_link_target= »_self » column_position= »default » gradient_direction= »left_to_right » overlay_strength= »0.3″ width= »1/1″ tablet_width_inherit= »default » animation_type= »default » bg_image_animation= »none » border_type= »simple » column_border_width= »none » column_border_style= »solid »] Programme du webinaire : \n\nIntroduction\nComprendre le Lean Management\nLa RSE\, un engagement durable\n« Lean et RSE »\, une synergie gagnante !!\nLa mise en œuvre dans votre entreprise\nConclusion\n\n [/vc_column][/vc_row][vc_row type= »in_container » full_screen_row_position= »middle » column_margin= »default » column_direction= »default » column_direction_tablet= »default » column_direction_phone= »default » scene_position= »center » top_padding= »0% » text_color= »dark » text_align= »left » row_border_radius= »none » row_border_radius_applies= »bg » overflow= »visible » overlay_strength= »0.3″ gradient_direction= »left_to_right » shape_divider_position= »bottom » bg_image_animation= »none » gradient_type= »default » shape_type= » »][vc_column column_padding= »no-extra-padding » column_padding_tablet= »inherit » column_padding_phone= »inherit » column_padding_position= »all » column_element_direction_desktop= »default » column_element_spacing= »default » centered_text= »true » desktop_text_alignment= »center » tablet_text_alignment= »default » phone_text_alignment= »default » background_color_opacity= »1″ background_hover_color_opacity= »1″ column_backdrop_filter= »none » column_shadow= »none » column_border_radius= »none » column_link_target= »_self » column_position= »default » gradient_direction= »left_to_right » overlay_strength= »0.3″ width= »1/1″ tablet_width_inherit= »default » animation_type= »default » bg_image_animation= »none » border_type= »simple » column_border_width= »none » column_border_style= »solid » column_padding_type= »default » gradient_type= »default »][nectar_btn size= »jumbo » open_new_tab= »true » button_style= »regular » button_color_2= »Accent-Color » icon_family= »none » text= »Inscrivez-vous » url= »https://www.lyon-metropole.cci.fr/evenement/lean-management-rse-1″][vc_column_text]\nCe webinaire est proposé par la CCI Lyon Métropole Saint-Etienne Roanne \n[/vc_column_text][/vc_column][/vc_row]
URL:https://pro.loiretourisme.com/evenement/webinaire-cci-lean-management-rse-2/
LOCATION:En ligne
CATEGORIES:Webinaire
ATTACH;FMTTYPE=image/png:https://pro.loiretourisme.com/wp-content/uploads/2025/07/Visuels-Webinaires-Projecteurs.png
END:VEVENT
END:VCALENDAR